BEGIN:VCALENDAR
VERSION:2.0
PRODID:-//Shawnee Bend Golf Club - Warsaw, MO - ECPv6.15.20//NONSGML v1.0//EN
CALSCALE:GREGORIAN
METHOD:PUBLISH
X-WR-CALNAME:Shawnee Bend Golf Club - Warsaw, MO
X-ORIGINAL-URL:https://shawneebendgolf.com
X-WR-CALDESC:Events for Shawnee Bend Golf Club - Warsaw, MO
REFRESH-INTERVAL;VALUE=DURATION:PT1H
X-Robots-Tag:noindex
X-PUBLISHED-TTL:PT1H
BEGIN:VTIMEZONE
TZID:UTC
BEGIN:STANDARD
TZOFFSETFROM:+0000
TZOFFSETTO:+0000
TZNAME:UTC
DTSTART:20240101T000000
END:STANDARD
END:VTIMEZONE
BEGIN:VEVENT
DTSTART;TZID=UTC:20250517T080000
DTEND;TZID=UTC:20250517T140000
DTSTAMP:20260420T112244
CREATED:20250221T224204Z
LAST-MODIFIED:20250221T224207Z
UID:10000008-1747468800-1747490400@shawneebendgolf.com
SUMMARY:Key Refrigeration Tournament
DESCRIPTION:
URL:https://shawneebendgolf.com/event/key-refrigeration-tournament/
LOCATION:Shawnee Bend Golf CLub\, 29353 Golf Course Rd\, Warsaw\, Missouri\, 65355\, United States
END:VEVENT
END:VCALENDAR